Workbook
Name AggregateImpact: 'Preliminary Questions'!$D$31
Name AvertedCosts_YesNo: 'Preliminary Questions'!$G$11
Name Control_Cost: 'Preliminary Questions'!$D$32
Name Control_Cost_YesNo: 'Preliminary Questions'!$G$26
Name EffectSize_YesNo: 'Preliminary Questions'!$G$22
Name Identified_Outcomes: 'Program Description'!$E$29
Name ImplementationCost_YesNo: 'Preliminary Questions'!$G$6
Name OpportunityCosts_YesNo: 'Preliminary Questions'!$G$17
Name Tab_1_I_RecruitingAndTraining: '1 - Implementation Costs'!$G$18
Name Tab_1_II_Development: '1 - Implementation Costs'!$G$27
Name Tab_1_III_Marketing: '1 - Implementation Costs'!$G$36
Name Tab_1_IV_Equipment: '1 - Implementation Costs'!$G$45
Name Tab_1_IX_Capital: '1 - Implementation Costs'!$G$93
Name Tab_1_Total: '1 - Implementation Costs'!$G$114
Name Tab_1_V_Facility: '1 - Implementation Costs'!$G$54
Name Tab_1_VI_Labor: '1 - Implementation Costs'!$G$63
Name Tab_1_VII_Transportation: '1 - Implementation Costs'!$G$76
Name Tab_1_VIII_Materials: '1 - Implementation Costs'!$G$89
Name Tab_1_X_Misc: '1 - Implementation Costs'!$G$102
Name Tab_1_XI_Unincurred: '1 - Implementation Costs'!$G$111
Name Tab_2_I_Facility: '2 - Indirect Costs'!$G$18
Name Tab_2_II_Admin: '2 - Indirect Costs'!$G$34
Name Tab_2_III_Operations: '2 - Indirect Costs'!$G$43
Name Tab_2_IV_Transportation: '2 - Indirect Costs'!$G$56
Name Tab_2_Total: '2 - Indirect Costs'!$G$67
Name Tab_2_V_Miscellaneous: '2 - Indirect Costs'!$G$65
Name Tab_3_I_Personnel: '3 - Direct Costs '!$G$16
Name Tab_3_II_Materials: '3 - Direct Costs '!$G$25
Name Tab_3_III_ParticipantSupport: '3 - Direct Costs '!$G$34
Name Tab_3_IV_CapitalCosts: '3 - Direct Costs '!$G$40
Name Tab_3_Total: '3 - Direct Costs '!$G$65
Name Tab_3_V_Transportation: '3 - Direct Costs '!$G$53
Name Tab_3_VI_Misc: '3 - Direct Costs '!$G$62
Name Tab_4_I_Labor: '4 - Averted Costs'!$G$16
Name Tab_4_II_Capital: '4 - Averted Costs'!$G$25
Name Tab_4_III_Misc: '4 - Averted Costs'!$G$34
Name Tab_4_Total: '4 - Averted Costs'!$G$37
Name Tab_5_I_ForegoneWages: '5 - Opportunity Costs'!$G$15
Name Tab_5_II_User: '5 - Opportunity Costs'!$G$23
Name Tab_5_Total: '5 - Opportunity Costs'!$G$26
Name Total_Actual_Costs: 'Summary Costs'!$I$12
Name Total_Cost: 'Summary Costs'!$F$12
Name Total_Operational_Costs: 'Summary Costs'!$L$12
Name Total_OpsAndBenefits_Cost: 'Summary Costs'!$O$12

Sheet Start Here
B1: Cost-Effectiveness Template Overview & Instructions
B9: Instructions:
B10: 1. | C10: Complete the 'Program Description' tab.
C11: This section helps to define the program and its components. By documenting the essential nature of the program, it will help to understand the following: * Critical components of the program * Whether the program started from scratch or was added to an existing program or operation * Unaccounted for costs There is space to complete "optional program information" to fully describe the program. This tab would also be a good place to document a program's logic model or links to external information about the program.
B12: 2. | C12: Complete the 'Preliminary Questions' tab.
C13: Questions 1-4 help determine whether certain categories of cost apply to your program. Question 4 allows you to use an estimate of the program impact (if available) to get a preliminary estimate of the program's cost per unit of impact.
B14: 3. | C14: Complete the "Costs" tabs.
C15: These tabs break down the cost categories into likely cost components. Not all components will apply to every program or intervention. If a cost is known but not quantified, list the cost component under the appropriate section and include a note. Each tab contains a "Miscellaneous Costs" section to identify known costs that you don't believe fit into any of the pre-determined fields.
B16: 4. | C16: Review 'Summary Costs' tab for the total cost of the program.
C17: When outcomes are identified and collected or when the program's impact is available, a cost-effectiveness calculation will be provided (cost per unit).
B20: Additional Tips:
C21: This template uses conditional formatting to populate, hide, reveal, and fill some cells.
C22: Many cells are shaded light gray to indicate that they will pre-populate based on data entered elsewhere in the workbook.
C23: Cells that do not need to be completed based on your inputs will be shaded with a dark grey, lined pattern.
B25: Link:
C26: https://www.povertyactionlab.org/resource/conducting-cost-effectiveness-analysis-cea

Sheet Program Description
B1: Program Description
E5: Response | G5: Notes
B6: Agency or Organization Delivering the Program | E6: Metro Career Pathways
C7: The entity responsible for the program. If the program is delivered by multiple different entities through a grant or contact process, put the fiscal agent or top level entity. Use the notes section to provide a list of the multiple providers or other important information. Note: Only include the multiple providers if this template is being used to aggregate the costs across all providers.
B8: General Description of the Program and its Activities | E8: Metro Career Pathways is the standard program for unemployment applicants that are un/under credentialed. The program consists of up to 3 workshops, resume/application lab, case management, and some potential participant expenses paid (transportation, licensing & testing) Note: Everyone does not receive all the services and there is no central dataset to identified services used. Individual counselor and case manager records would need to be reviewed to determine the level of intensity for each participant.
C9: Provide a description of the program, its activities, and any critical components. Example: The JOBS program trains job seekers in specific "High-Demand/High-Wage" jobs as indicated by the State of Workforce Report. The program provides technical skills training for the identified job. The typical program lasts 6 weeks and requires participation for 6 hours a day/ 4 days a week. Critical Components of the Program: * Technical skills training - The specific training has been indicated by the Regional Workforce Boards to be appropriate for the desired sector/employment opportunity. * Career readiness training - The training incorporates non-technical training into the 6 week program. Non-technical training includes time-management, study skills, critical thinking, and conflict resolution. * Job placement - The program has partnered with local employers to place program participants in a job prior to program completion. This typically happens within the final two weeks of training. * Financial support - The program provides financial support in the form of a stipend to offset some of the cost of attendance for the user.
B13: What year did the program begin? (Four digit year) | E13: 2016
B17: What year was the program evaluated? (Four digit year) | E17: 2024
B21: How many individuals participated in the program during the evaluation period? (Unless the program is specifically designed for repeat participants, include duplications in this number) | E21: 120 | G21: The program had 1,846 total participants during the year. 120 (6.5%) represents the matched control.
B25: Does the program have an estimated Effect Size(s) for impact? | E25: No
B29: Have specific outcomes been identified and quantified for the program | E29: Yes
C32: In the box to the right, list all desired outcomes of the program and the measured values of each outcome. Also indicate whether the period of time for which outcomes were measured aligns with the period of time for which costs are being calculated. If necessary, identify the number of outcome periods contained with the cost period. This number may be fractional. | E32: List of Outcomes | G32: # of times the outcome has occurred | I32: Are the outcomes for the total period that costs are being calculated? | K32: How many outcome periods are included in the cost period?
E33: Employed 12-months after application | G33: 54 | I33: Yes
C34: Increased wages was calculated using the average increased hourly wage ($2.25) multiplied by the reported average annual number of hours worked. (# of hrs worked per week x 52 = 1410) | E34: Increased wages earned | G34: =+(2.25*120) -> 270 | I34: Yes
B44: Optional Program Information Use the Notes section to provide additional details or context. | E44: Response | G44: Notes
C45: Annual Revenues: (Use the notes to distinguish source of funds by amount or percentage)
C46: Program Duration: (Designed or Average Length of Time a Participant is in the Program)
C47: Frequency/Intensity: (How often and to what extent is the program delivered. Examples include M-Th for 8 hours, Weekly, Daily)
C48: Delivery Setting: (A description of the physical setting where the program is delivered or received. Examples include in-person, in-home, school-based, virtual, etc.)
C49: Delivery Location: (Specific geographic location the program is being delivered. Examples include statewide, all counties, all schools, multiple counties/cities. If the locations are less than the whole, please provide a listing or link to a listing)
C50: Annual Capacity: (The maximum number of participants that can be served with the existing resources)
C51: Target Population: (A description of the population the program is designed to serve.)
C52: Waitlisted or Unserved Population: (The number of otherwise qualified applicants/participants that were not admitted/served due to a lack of capacity)
C53: Total Number of Participants Served: (Use the Notes section to provide details like if this is the number served during the study period or some other period of time)
C54: Desired Outcomes of the Program:

Sheet Preliminary Questions
B1: Questions That Will Shape The Template
G3: Select One Answer
B6: 1 | C6: Were there any costs associated with start-up or implementing the program? | G6: No
C7: For example, costs the were incurred solely for the purpose of standing up the program. These cost should include targeting and marketing costs and well as initial staff hiring and training costs. These costs are typically one-time or are might be higher/lower than the regular operating costs due to the unique nature of starting a program.
C8: If NO, then SKIP TAB 1 - Implementation Costs
B11: 2 | C11: Were there any averted costs? Costs of the organization that reduced in size or discontinued as a result of the program? | G11: No
C12: Only include significant and realized or likely to be realized costs here. Do not include costs that were repurposed for the program as averted costs. For example, a reduction in workforce due to automation or technology is an averted cost. Repurposing a facility for a program thereby reducing the cost of another program is not an averted cost.
C13: If NO, then SKIP TAB 4 - Averted Costs
B17: 3 | C17: Were there any associated costs for program participants, including averted costs of the participant? | G17: No
C18: For example, were participants required to pay a fees or a portion of the cost of a product or service? Its is also possible to account for large time commitments for the participants on this tab.
C19: If NO, then SKIP TAB 5 - Opportunity Costs.
B22: 4 | C22: Do you have an impact estimate for the intervention? | G22: No
C23: If an impact estimate is available, filling out this table will allow for a back-of-the-envelope cost-effectiveness calculation on the final page.
B26: 5 | C26: Do you have a calculated cost for the control? | G26: No
C27: If a control cost is available, an incremental cost-effectivess ratio calculation is available on the Summary Costs tab.
C29: Impact Estimate
C30: Sample Size
C31: Aggregate Impact
C32: Control Cost

Sheet 1 - Implementation Costs
B1: Component 1: Implementation Costs
D8: Unit | E8: Unit Cost | F8: # of Units | G8: Total Cost | H8: Notes | I8: Instructions | J8: Examples
B11: I | C11: Initial Staff Recruiting and Training | I11: Cost to hire and train initial program staff. Only include amounts for direct operational staff. This cost should include the personnel/benefit cost of program staff employed prior to program launch. Salaries and expenses associated with administration will be entered on Tab # 2 - Indirect Costs
C12: Insert one line for each component. Insert additional rows below if necessary and copy the formula in Column H.
B13: 1 | G13: =IF(OR(ISBLANK($E13),ISBLANK($F13)),"",$E13*$F13)
B14: 2 | G14: =IF(OR(ISBLANK($E14),ISBLANK($F14)),"",$E14*$F14)
B15: 3 | G15: =IF(OR(ISBLANK($E15),ISBLANK($F15)),"",$E15*$F15)
B16: 4 | G16: =IF(OR(ISBLANK($E16),ISBLANK($F16)),"",$E16*$F16)
B17: 5 | G17: =IF(OR(ISBLANK($E17),ISBLANK($F17)),"",$E17*$F17)
C18: Subtotal: | G18: =SUM($G$13:$G$17) -> 0
B20: II | C20: Program Setup & Development
C21: Insert one line item for each component. Insert additional rows below if necessary. | I21: Record any costs associated with the development of the program like legal or regulatory costs required of the program. Also include costs associated with stakeholder recruiting and engagement.
B22: 1 | G22: =IF(OR(ISBLANK($E22),ISBLANK($F22)),"",$E22*$F22)
B23: 2 | G23: =IF(OR(ISBLANK($E23),ISBLANK($F23)),"",$E23*$F23)
B24: 3 | G24: =IF(OR(ISBLANK($E24),ISBLANK($F24)),"",$E24*$F24)
B25: 4 | G25: =IF(OR(ISBLANK($E25),ISBLANK($F25)),"",$E25*$F25)
B26: 5 | G26: =IF(OR(ISBLANK($E26),ISBLANK($F26)),"",$E26*$F26)
C27: Subtotal: | G27: =SUM($G$22:$G$26) -> 0
B29: III | C29: Marketing and Outreach to Launch | I29: Costs associated with initial marketing and branding to promote and target the program.
C30: Insert one line item for each component. Insert additional rows below if necessary.
B31: 1 | G31: =IF(OR(ISBLANK($E31),ISBLANK($F31)),"",$E31*$F31)
B32: 2 | G32: =IF(OR(ISBLANK($E32),ISBLANK($F32)),"",$E32*$F32)
B33: 3 | G33: =IF(OR(ISBLANK($E33),ISBLANK($F33)),"",$E33*$F33)
B34: 4 | G34: =IF(OR(ISBLANK($E34),ISBLANK($F34)),"",$E34*$F34)
B35: 5 | G35: =IF(OR(ISBLANK($E35),ISBLANK($F35)),"",$E35*$F35)
C36: Subtotal: | G36: =SUM($G$31:$G$35) -> 0
B38: IV | C38: Equipment & Technology Setup
C39: Insert one line item for each component. Insert additional rows below if necessary. | I39: Record any equipment or technology purchases and setup costs, which a expanded or start-up model of the program would have to pay for. Items recorded in other tabs of the spreadsheet should not be included here.
B40: 1 | G40: =IF(OR(ISBLANK($E40),ISBLANK($F40)),"",$E40*$F40)
B41: 2 | G41: =IF(OR(ISBLANK($E41),ISBLANK($F41)),"",$E41*$F41)
B42: 3 | G42: =IF(OR(ISBLANK($E42),ISBLANK($F42)),"",$E42*$F42)
B43: 4 | G43: =IF(OR(ISBLANK($E43),ISBLANK($F43)),"",$E43*$F43)
B44: 5 | G44: =IF(OR(ISBLANK($E44),ISBLANK($F44)),"",$E44*$F44)
C45: Subtotal: | G45: =SUM($G$40:$G$44) -> 0
B47: V | C47: Facility Preparation
C48: Insert one line item for each component. Insert additional rows below if necessary. | I48: Record any costs to ready a facility. Cost might include facility modifications/setup, safety equipment/modifications, signage and accessibility improvements. Items recorded in other tabs of the spreadsheet should not be included here.
B49: 1 | G49: =IF(OR(ISBLANK($E49),ISBLANK($F49)),"",$E49*$F49)
B50: 2 | G50: =IF(OR(ISBLANK($E50),ISBLANK($F50)),"",$E50*$F50)
B51: 3 | G51: =IF(OR(ISBLANK($E51),ISBLANK($F51)),"",$E51*$F51)
B52: 4 | G52: =IF(OR(ISBLANK($E52),ISBLANK($F52)),"",$E52*$F52)
...

Sheet 2 - Indirect Costs
B1: Component 2: Indirect Costs
D8: Unit | E8: Unit Cost | F8: # of Units | G8: Total Cost | H8: Notes | I8: Instructions | J8: Examples
B11: I | C11: Facility Costs | I11: Record any facility costs that are not exclusively for the benefit of the program. If the facility is for the sole use of the program, those costs should be included on Tab 3 - Direct Costs. Additionally, if costs are allocated based on specific amount of usage by the program, they should be entered on Tab 3 - Direct Costs as well.
C12: Insert one line for each component. Insert additional rows below if necessary and copy the formula in Column H.
B13: 1 | C13: Rent/Facility Use | D13: Total | E13: =0.0625*0.2*546000 -> 6825 | F13: 1 | G13: =IF(OR(ISBLANK($E13),ISBLANK($F13)),"",$E13*$F13) -> 6825 | H13: Control group proportionate share of 20% overhead based on direct service cost.
B14: 2 | C14: Utilities | D14: Total | E14: =0.0625*0.2*12000 -> 150 | F14: 1 | G14: =IF(OR(ISBLANK($E14),ISBLANK($F14)),"",$E14*$F14) -> 150 | H14: Control group proportionate share of 20% overhead based on direct service cost.
B15: 3 | C15: Maintenance/Repairs | G15: =IF(OR(ISBLANK($E15),ISBLANK($F15)),"",$E15*$F15)
B16: 4 | G16: =IF(OR(ISBLANK($E16),ISBLANK($F16)),"",$E16*$F16)
B17: 5 | G17: =IF(OR(ISBLANK($E17),ISBLANK($F17)),"",$E17*$F17)
C18: Subtotal: | G18: =SUM($G$13:$G$17) -> 6975
B20: II | C20: Administrative Costs
C21: Insert one line item for each component. Insert additional rows below if necessary. | I21: Record any organizational costs that are allocated to the program. Costs will include salaries/benefits as well as products, software, contracted services, fees, and premiums carried by the organization that benefit the program.
B22: 1 | C22: Management/Supervision | D22: Total | E22: =16000*0.0625 -> 1000 | F22: 1 | G22: =IF(OR(ISBLANK($E22),ISBLANK($F22)),"",$E22*$F22) -> 1000 | H22: 20% of director's salary allocated to the program
B23: 2 | C23: Accounting/Finance | D23: Total | E23: =0.0625*8000 -> 500 | F23: 1 | G23: =IF(OR(ISBLANK($E23),ISBLANK($F23)),"",$E23*$F23) -> 500 | H23: Payroll, benefits processing, compliance
B24: 3 | C24: Legal/Compliance | D24: Total | E24: =0.0625*4000 -> 250 | F24: 1 | G24: =IF(OR(ISBLANK($E24),ISBLANK($F24)),"",$E24*$F24) -> 250
B25: 4 | C25: IT Support | D25: Total | E25: =0.0625*4800 -> 300 | F25: 1 | G25: =IF(OR(ISBLANK($E25),ISBLANK($F25)),"",$E25*$F25) -> 300
B26: 5 | C26: HR Administration | D26: Total | E26: =0.0625*6000 -> 375 | F26: 1 | G26: =IF(OR(ISBLANK($E26),ISBLANK($F26)),"",$E26*$F26) -> 375 | H26: Payroll, benefits processing, compliance
B27: 6 | C27: Marketing & Communications | G27: =IF(OR(ISBLANK($E27),ISBLANK($F27)),"",$E27*$F27)
B28: 7 | C28: Insurance | G28: =IF(OR(ISBLANK($E28),ISBLANK($F28)),"",$E28*$F28)
B29: 8 | C29: Security | G29: =IF(OR(ISBLANK($E29),ISBLANK($F29)),"",$E29*$F29)
B30: 9 | C30: Quality Assurance/Evaluation (Only include external evaluation costs that were procured by the organization) | G30: =IF(OR(ISBLANK($E30),ISBLANK($F30)),"",$E30*$F30)
B31: 10 | G31: =IF(OR(ISBLANK($E31),ISBLANK($F31)),"",$E31*$F31)
B32: 11 | G32: =IF(OR(ISBLANK($E32),ISBLANK($F32)),"",$E32*$F32)
B33: 12 | G33: =IF(OR(ISBLANK($E33),ISBLANK($F33)),"",$E33*$F33)
C34: Subtotal: | G34: =SUM($G$22:$G$33) -> 2425
B36: III | C36: General Operations | I36: Costs associated program operations that are allocated across all of the organization's operations.
C37: Insert one line item for each component. Insert additional rows below if necessary.
B38: 1 | C38: Office Supplies | G38: =IF(OR(ISBLANK($E38),ISBLANK($F38)),"",$E38*$F38)
B39: 2 | C39: Phone/Internet | G39: =IF(OR(ISBLANK($E39),ISBLANK($F39)),"",$E39*$F39)
B40: 3 | C40: Printing/Copying | G40: =IF(OR(ISBLANK($E40),ISBLANK($F40)),"",$E40*$F40)
B41: 4 | G41: =IF(OR(ISBLANK($E41),ISBLANK($F41)),"",$E41*$F41)
B42: 5 | G42: =IF(OR(ISBLANK($E42),ISBLANK($F42)),"",$E42*$F42)
C43: Subtotal: | G43: =SUM($G$38:$G$42) -> 0
B45: IV | C45: Transportation | I45: Cost associated with administrators traveling to program delivery sites.
B46: 1 | C46: Air | G46: =IF(OR(ISBLANK($E46),ISBLANK($F46)),"",$E46*$F46) | I46: If the cost of flights taken differed among employees, try to state an average or add an additional row for each flight amount. Please describe the origin and destination of each flight in "Notes."
B47: 2 | C47: Ground | G47: =IF(OR(ISBLANK($E47),ISBLANK($F47)),"",$E47*$F47) | I47: If ground transportation taken was by van or car, please state whether it was rented or owned by organization or employee in "Notes." The price will depend on the type of vehicle.
C48: Car | G48: =IF(OR(ISBLANK($E48),ISBLANK($F48)),"",$E48*$F48)
C49: Van | G49: =IF(OR(ISBLANK($E49),ISBLANK($F49)),"",$E49*$F49)
C50: Bus | G50: =IF(OR(ISBLANK($E50),ISBLANK($F50)),"",$E50*$F50) | I50: Costs should be given by number of buses rented or fare per person.
C51: Gas | G51: =IF(OR(ISBLANK($E51),ISBLANK($F51)),"",$E51*$F51) | I51: Units for gas should be in gallons. Alternatively, you could enter the rate paid drivers per mile.
...

Sheet 3 - Direct Costs 
B1: Component 3: Direct Costs
D6: Unit | E6: Unit Cost | F6: # of Units | G6: Total Cost | H6: Notes | I6: Instructions | J6: Examples
B9: I | C9: Personnel Costs
C10: Insert one line for each employee position. (If multiple employees in the same position have different salaries, you can either include each on its own row or combined them and select 'Total' for [Unit]. If more than one employee is counted for a position, please indicated the number of employees in the notes). Insert additional rows below if necessary, and copy the formula in Column H so that total costs will correctly populate.
B11: 1 | C11: Case Managers | D11: Total | E11: =0.0625*250402.5 -> 15650.156 | F11: 1 | G11: =IF(OR(ISBLANK($E11),ISBLANK($F11)),"",$E11*$F11) -> 15650.156 | H11: Salary + benefits for full-time case managers | I11: Cost data for full-time, salaried workers should generally be available by month or year. Remember to include employee benefits along with personnel costs. Please describe employees' main tasks or duties in "Notes." | J11: Senior management of the primary implementing organization
B12: 2 | C12: Instructors | D12: Total | E12: =0.0625*54000 -> 3375 | F12: 1 | G12: =IF(OR(ISBLANK($E12),ISBLANK($F12)),"",$E12*$F12) -> 3375 | H12: Salary + benefits for full-time instructors (Job readiness and resume labs)
B13: 3 | G13: =IF(OR(ISBLANK($E13),ISBLANK($F13)),"",$E13*$F13)
B14: 4 | G14: =IF(OR(ISBLANK($E14),ISBLANK($F14)),"",$E14*$F14)
B15: 5 | G15: =IF(OR(ISBLANK($E15),ISBLANK($F15)),"",$E15*$F15)
C16: Subtotal: | G16: =SUM($G$11:$G$15) -> 19025.156
B18: II | C18: Program Materials and Resources
C19: Insert one line for each position. If there is more than one employee per position, please sum the hours worked for all employees of that position. Insert additional rows below if necessary and copy the formula in Column H.
B20: 1 | C20: Training Materials per Participant | D20: Participant | E20: 25 | F20: 120 | G20: =IF(OR(ISBLANK($E20),ISBLANK($F20)),"",$E20*$F20) -> 3000 | H20: Average costs of materials and software used | I20: Cost for supplies and materials used in the delivery of services or operation of the program. | J20: Printed materials or resources provided to program participants.
B21: 2 | C21: Credential/Testing Fees | D21: Participant | E21: 63.87 | F21: 120 | G21: =IF(OR(ISBLANK($E21),ISBLANK($F21)),"",$E21*$F21) -> 7664.4 | H21: Average per participant cost of license and testing fees | J21: Consumable supplies used to operate the program.
B22: 3 | G22: =IF(OR(ISBLANK($E22),ISBLANK($F22)),"",$E22*$F22) | J22: Necessary equipment or tools.
B23: 4 | G23: =IF(OR(ISBLANK($E23),ISBLANK($F23)),"",$E23*$F23) | J23: Software or technology
B24: 5 | G24: =IF(OR(ISBLANK($E24),ISBLANK($F24)),"",$E24*$F24)
C25: Subtotal: | G25: =SUM($G$20:$G$24) -> 10664.4
B28: III | C28: Participant Support
B29: 1 | C29: Transportation Assistance | D29: Participant | E29: 70 | F29: 120 | G29: =IF(OR(ISBLANK($E29),ISBLANK($F29)),"",$E29*$F29) -> 8400 | H29: Average amount of transportation assistance (Gas cards/Bus Transportation/Ride reimbursements) | I29: Cost for direct incentives or support paid to or covered for participants in order to participate in the program. | J29: Childcare support
B30: 2 | G30: =IF(OR(ISBLANK($E30),ISBLANK($F30)),"",$E30*$F30) | J30: Transportation support
B31: 3 | G31: =IF(OR(ISBLANK($E31),ISBLANK($F31)),"",$E31*$F31) | J31: Stipends or Incentives
B32: 4 | G32: =IF(OR(ISBLANK($E32),ISBLANK($F32)),"",$E32*$F32)
B33: 5 | G33: =IF(OR(ISBLANK($E33),ISBLANK($F33)),"",$E33*$F33)
C34: Subtotal: | G34: =SUM($G$29:$G$33) -> 8400
B36: IV | C36: Facility Costs
B37: 1 | C37: Cost of facilities | G37: =IF(OR(ISBLANK($E37),ISBLANK($F37)),"",$E37*$F37) | I37: Sum the amount spent on rent per month (or year) for facilities used full-time for the intervention, put the total in "Unit Cost". If you only have a total cost available, enter "Total" for "Unit" and enter 1 in "# of Units." Identify what facilities were included in the calculation in "Notes." | J37: The rent paid each month for facilities that were rented specifically for the intervention and for full-time staff members.
B38: 2 | C38: Cost of utilities | G38: =IF(OR(ISBLANK($E38),ISBLANK($F38)),"",$E38*$F38) | I38: Please average the total amount spent on all utilities each month (or year). If you only have a total cost available, choose "Total" and enter 1 in "# of Units." Identify what utilities were included in the calculation in "Notes." | J38: Utilities may include the cost of phone bill, electricity bills, and gas bills incurred during the intervention.
B39: 3 | C39: Cost of materials, repairs, and maintenance of the facility | D39: Total | G39: =IF(OR(ISBLANK($E39),ISBLANK($F39)),"",$E39*$F39) | I39: Please sum the amount spent on all materials, repairs, and maintenance for the facility. Identify what materials were included in the calculation in "Notes."
C40: Subtotal: | G40: =SUM($G$37:$G$39) -> 0
B42: V | C42: Transportation | I42: Travel costs of employees.
B43: 1 | C43: Air | G43: =IF(OR(ISBLANK($E43),ISBLANK($F43)),"",$E43*$F43) | I43: If the cost of flights taken differed among employees, try to state an average or add an additional row for each flight amount. Please describe the origin and destination of each flight in "Notes."
B44: 2 | C44: Ground | G44: =IF(OR(ISBLANK($E44),ISBLANK($F44)),"",$E44*$F44) | I44: If ground transportation taken was by van or car, please state whether it was rented or owned by the agency or employee in "Notes."
C45: Car | G45: =IF(OR(ISBLANK($E45),ISBLANK($F45)),"",$E45*$F45)
C46: Van | G46: =IF(OR(ISBLANK($E46),ISBLANK($F46)),"",$E46*$F46)
C47: Bus | G47: =IF(OR(ISBLANK($E47),ISBLANK($F47)),"",$E47*$F47) | I47: Costs should be given by number of buses rented or fare per person.
C48: Gas | G48: =IF(OR(ISBLANK($E48),ISBLANK($F48)),"",$E48*$F48) | I48: Units for gas should be in gallons. Alternatively, you could enter the rate paid drivers per mile.
B49: 3 | C49: Other transportation | G49: =IF(OR(ISBLANK($E49),ISBLANK($F49)),"",$E49*$F49) | I49: Please specify what other form of transportation was taken in "Notes."
B50: 4 | C50: Lodging | I50: If the implementation required staff to stay overnight at program sites, please enter the cost of lodging for the nights spent on site. Provide extra details in "Notes."
B51: 5 | C51: Per diem | I51: Staff per diem includes food allowances and other related costs for their time in the field for the employees. If different staff received different per diem amounts, enter each on a separate line.
...

Sheet 4 - Averted Costs
B1: Component 4: Averted Costs
D6: Unit | E6: Unit Cost | F6: # of Units | G6: Total Cost | H6: Notes | I6: Description | J6: Examples
B9: I | C9: Labor Costs | I9: Labor costs that are discontinued due to the intervention. Please describe the positions or activities that were discontinued in "Notes." | J9: A program that sends automated text reminders reduces the number of case managers needed to manage caseloads.
C10: Insert one line for each position. If there is more than one employee per position, please sum the hours worked for all employees of that position. Insert additional rows below if necessary and copy the formula in Column H.
B11: 1 | G11: =IF(OR(ISBLANK($E11),ISBLANK($F11)),"",$E11*$F11) | I11: Labor costs should be available in hours or days. If you only have a total estimate, choose "Total" and enter 1 for "# of Units."
B12: 2 | G12: =IF(OR(ISBLANK($E12),ISBLANK($F12)),"",$E12*$F12)
B13: 3 | G13: =IF(OR(ISBLANK($E13),ISBLANK($F13)),"",$E13*$F13)
B14: 4 | G14: =IF(OR(ISBLANK($E14),ISBLANK($F14)),"",$E14*$F14)
B15: 5 | G15: =IF(OR(ISBLANK($E15),ISBLANK($F15)),"",$E15*$F15)
C16: Subtotal: | G16: =SUM($G$11:$G$15) -> 0
B18: II | C18: Capital Costs | I18: Capital costs that would be deemed unnecessary due to the intervention. These costs should only be included if they are realized or there is a high likelihood that they will be realized. (Example: If a building is owned by the organization and is unlikely to be repurposed for a different use, the capital costs are not averted.) | J18: An online learning platform reduces the need the need for in-person classrooms.
C19: Insert one line for each product. Insert additional rows below if necessary and copy the formula in Column H.
B20: 1 | G20: =IF(OR(ISBLANK($E20),ISBLANK($F20)),"",$E20*$F20)
B21: 2 | G21: =IF(OR(ISBLANK($E21),ISBLANK($F21)),"",$E21*$F21)
B22: 3 | G22: =IF(OR(ISBLANK($E22),ISBLANK($F22)),"",$E22*$F22)
B23: 4 | G23: =IF(OR(ISBLANK($E23),ISBLANK($F23)),"",$E23*$F23)
B24: 5 | G24: =IF(OR(ISBLANK($E24),ISBLANK($F24)),"",$E24*$F24)
C25: Subtotal: | G25: =SUM($G$20:$G$24) -> 0
B27: III | C27: Miscellaneous Costs
C28: Insert any other costs that were averted as a result of the intervention. If you have lump-sum costs that you cannot divide into the categories above, include them here. | I28: Please include a description of any miscellaneous costs in "Notes."
B29: 1 | G29: =IF(OR(ISBLANK($E29),ISBLANK($F29)),"",$E29*$F29)
B30: 2 | G30: =IF(OR(ISBLANK($E30),ISBLANK($F30)),"",$E30*$F30)
B31: 3 | G31: =IF(OR(ISBLANK($E31),ISBLANK($F31)),"",$E31*$F31)
B32: 4 | G32: =IF(OR(ISBLANK($E32),ISBLANK($F32)),"",$E32*$F32)
B33: 5 | G33: =IF(OR(ISBLANK($E33),ISBLANK($F33)),"",$E33*$F33)
C34: Subtotal: | G34: =SUM($G$29:$G$33) -> 0
C37: Total: | G37: =SUM(Tab_4_I_Labor,Tab_4_II_Capital,Tab_4_III_Misc) -> 0

Sheet 5 - Opportunity Costs
B1: Component 5: Opportunity Costs
D6: Unit | E6: Unit Cost | F6: # of Units | G6: Total Cost | H6: Notes | I6: Description | J6: Examples
B9: I | C9: Foregone Wages | I9: Wages that a participant was previously earning but had to either stop earning or work less hours in order to participate. Provide a description of the foregone wages and how it was determined in the [Notes] column.
B10: 1 | G10: =IF(OR(ISBLANK($E10),ISBLANK($F10)),"",$E10*$F10)
B11: 2 | G11: =IF(OR(ISBLANK($E11),ISBLANK($F11)),"",$E11*$F11)
B12: 3 | G12: =IF(OR(ISBLANK($E12),ISBLANK($F12)),"",$E12*$F12)
B13: 4 | G13: =IF(OR(ISBLANK($E13),ISBLANK($F13)),"",$E13*$F13)
B14: 5 | G14: =IF(OR(ISBLANK($E14),ISBLANK($F14)),"",$E14*$F14)
C15: Subtotal: | G15: =SUM($G$10:$G$14) -> 0
B17: II | C17: User Costs | I17: Costs incurred by the participant in order to participate.
B18: 1 | G18: =IF(OR(ISBLANK($E18),ISBLANK($F18)),"",$E18*$F18) | J18: Participant has additional childcare costs in order to participate in the program.
B19: 2 | G19: =IF(OR(ISBLANK($E19),ISBLANK($F19)),"",$E19*$F19) | J19: Participant incurs abnormal transportation costs to participate in the program.
B20: 3 | G20: =IF(OR(ISBLANK($E20),ISBLANK($F20)),"",$E20*$F20) | J20: Participant is required to pay an application or registration fee.
B21: 4 | G21: =IF(OR(ISBLANK($E21),ISBLANK($F21)),"",$E21*$F21)
B22: 5 | G22: =IF(OR(ISBLANK($E22),ISBLANK($F22)),"",$E22*$F22)
C23: Subtotal: | G23: =SUM($G$18:$G$22) -> 0
C26: Total: | G26: =SUM(Tab_5_I_ForegoneWages,Tab_5_II_User) -> 0

Sheet Summary Costs
B1: Summary of Program Costs
B4: Part | C4: Section | D4: Description | F4: Total Costs (USD)
B5: 1 | C5: Implementation Costs | D5: Costs of implementing the intervention. This can include the costs of creating and maintaining technologies or resources developed for the intervention or costs that were incurred to target, identify, and raise awareness among potential subjects as part of the intervention. This category also includes marketing costs, such as the costs incurred to print and distribute flyers or host information sessions. | F5: =Tab_1_Total -> 0
B6: 2 | C6: Indirect Costs | D6: Costs not directly associated with delivering the program. These costs includes those generally associated with overhead expenses. | F6: {=Tab_2_Total} -> 9400
B7: 3 | C7: Direct Costs | D7: Costs to deliver the program. This includes all staff who are necessary to the program daily operations as well as marginal costs. | F7: =Tab_3_Total -> 38089.556
B8: 4 | C8: Averted Costs | D8: Costs averted as a result of the intervention. Only include costs that are significant. | F8: =(-1)*Tab_4_Total -> 0
B9: 5 | C9: Opportunity Costs | D9: Costs that the participant incurred as a part of the intervention. These costs might include foregone wages, new costs, marginal costs, and actual averted costs. | F9: =Tab_5_Total -> 0
D12: Total Costs: | F12: =SUM(Tab_1_Total,Tab_2_Total,Tab_3_Total,(-1)*Tab_4_Total,Tab_5_Total) -> 47489.556 | H12: Total Actual Costs: (Excludes Averted and Opportunity Costs) | I12: =SUM(Tab_1_Total,Tab_2_Total,Tab_3_Total) -> 47489.556 | K12: Total Actual Operational Costs: (Includes only Indirect and Direct Costs) | L12: =SUM(Tab_2_Total,Tab_3_Total) -> 47489.556 | N12: Total Operational Costs: (Excludes Implementation Costs) | O12: =SUM(Tab_2_Total,Tab_3_Total,(-1)*Tab_4_Total,Tab_5_Total) -> 47489.556
A14: Cost per Identified Outcome
D16: =IF(Q16=0,"",Q16) -> Employed 12-months after application | F16: =IFERROR( Total_Cost / ( SUMIF('Program Description'!$E$33:$E$42,'Summary Costs'!$D16,'Program Description'!$G$33:$G$42) * IF( SUMIF('Program Description'!$E$33:$E$42,'Summary Costs'!$D16,'Program Description'!$K$33:$K$42)=0, 1, SUMIF('Program Description'!$E$33:$E$42,'Summary Costs'!$D16,'Program Description'!$K$33:$K$42) ) ), "" ) -> 879.43623 | I16: =IFERROR( Total_Actual_Costs / ( SUMIF('Program Description'!$E$33:$E$42,'Summary Costs'!$D16,'Program Description'!$G$33:$G$42) * IF( SUMIF('Program Description'!$E$33:$E$42,'Summary Costs'!$D16,'Program Description'!$K$33:$K$42)=0, 1, SUMIF('Program Description'!$E$33:$E$42,'Summary Costs'!$D16,'Program Description'!$K$33:$K$42) ) ), "" ) -> 879.43623 | L16: =IFERROR( Total_Operational_Costs / ( SUMIF('Program Description'!$E$33:$E$42,'Summary Costs'!$D16,'Program Description'!$G$33:$G$42) * IF( SUMIF('Program Description'!$E$33:$E$42,'Summary Costs'!$D16,'Program Description'!$K$33:$K$42)=0, 1, SUMIF('Program Description'!$E$33:$E$42,'Summary Costs'!$D16,'Program Description'!$K$33:$K$42) ) ), "" ) -> 879.43623 | O16: =IFERROR( Total_OpsAndBenefits_Cost/ ( SUMIF('Program Description'!$E$33:$E$42,'Summary Costs'!$D16,'Program Description'!$G$33:$G$42) * IF( SUMIF('Program Description'!$E$33:$E$42,'Summary Costs'!$D16,'Program Description'!$K$33:$K$42)=0, 1, SUMIF('Program Description'!$E$33:$E$42,'Summary Costs'!$D16,'Program Description'!$K$33:$K$42) ) ), "" ) -> 879.43623 | Q16: {=IF(Identified_Outcomes="Yes",'Program Description'!$E$33:$E$42,"")} -> Employed 12-months after application
D17: =IF(Q17=0,"",Q17) -> Increased wages earned | F17: =IFERROR( Total_Cost / ( SUMIF('Program Description'!$E$33:$E$42,'Summary Costs'!$D17,'Program Description'!$G$33:$G$42) * IF( SUMIF('Program Description'!$E$33:$E$42,'Summary Costs'!$D17,'Program Description'!$K$33:$K$42)=0, 1, SUMIF('Program Description'!$E$33:$E$42,'Summary Costs'!$D17,'Program Description'!$K$33:$K$42) ) ), "" ) -> 175.88725 | I17: =IFERROR( Total_Actual_Costs / ( SUMIF('Program Description'!$E$33:$E$42,'Summary Costs'!$D17,'Program Description'!$G$33:$G$42) * IF( SUMIF('Program Description'!$E$33:$E$42,'Summary Costs'!$D17,'Program Description'!$K$33:$K$42)=0, 1, SUMIF('Program Description'!$E$33:$E$42,'Summary Costs'!$D17,'Program Description'!$K$33:$K$42) ) ), "" ) -> 175.88725 | L17: =IFERROR( Total_Operational_Costs / ( SUMIF('Program Description'!$E$33:$E$42,'Summary Costs'!$D17,'Program Description'!$G$33:$G$42) * IF( SUMIF('Program Description'!$E$33:$E$42,'Summary Costs'!$D17,'Program Description'!$K$33:$K$42)=0, 1, SUMIF('Program Description'!$E$33:$E$42,'Summary Costs'!$D17,'Program Description'!$K$33:$K$42) ) ), "" ) -> 175.88725 | O17: =IFERROR( Total_OpsAndBenefits_Cost/ ( SUMIF('Program Description'!$E$33:$E$42,'Summary Costs'!$D17,'Program Description'!$G$33:$G$42) * IF( SUMIF('Program Description'!$E$33:$E$42,'Summary Costs'!$D17,'Program Description'!$K$33:$K$42)=0, 1, SUMIF('Program Description'!$E$33:$E$42,'Summary Costs'!$D17,'Program Description'!$K$33:$K$42) ) ), "" ) -> 175.88725 | Q17: Increased wages earned
D18: =IF(Q18=0,"",Q18) | F18: =IFERROR( Total_Cost / ( SUMIF('Program Description'!$E$33:$E$42,'Summary Costs'!$D18,'Program Description'!$G$33:$G$42) * IF( SUMIF('Program Description'!$E$33:$E$42,'Summary Costs'!$D18,'Program Description'!$K$33:$K$42)=0, 1, SUMIF('Program Description'!$E$33:$E$42,'Summary Costs'!$D18,'Program Description'!$K$33:$K$42) ) ), "" ) | I18: =IFERROR( Total_Actual_Costs / ( SUMIF('Program Description'!$E$33:$E$42,'Summary Costs'!$D18,'Program Description'!$G$33:$G$42) * IF( SUMIF('Program Description'!$E$33:$E$42,'Summary Costs'!$D18,'Program Description'!$K$33:$K$42)=0, 1, SUMIF('Program Description'!$E$33:$E$42,'Summary Costs'!$D18,'Program Description'!$K$33:$K$42) ) ), "" ) | L18: =IFERROR( Total_Operational_Costs / ( SUMIF('Program Description'!$E$33:$E$42,'Summary Costs'!$D18,'Program Description'!$G$33:$G$42) * IF( SUMIF('Program Description'!$E$33:$E$42,'Summary Costs'!$D18,'Program Description'!$K$33:$K$42)=0, 1, SUMIF('Program Description'!$E$33:$E$42,'Summary Costs'!$D18,'Program Description'!$K$33:$K$42) ) ), "" ) | O18: =IFERROR( Total_OpsAndBenefits_Cost/ ( SUMIF('Program Description'!$E$33:$E$42,'Summary Costs'!$D18,'Program Description'!$G$33:$G$42) * IF( SUMIF('Program Description'!$E$33:$E$42,'Summary Costs'!$D18,'Program Description'!$K$33:$K$42)=0, 1, SUMIF('Program Description'!$E$33:$E$42,'Summary Costs'!$D18,'Program Description'!$K$33:$K$42) ) ), "" ) | Q18: 0
D19: =IF(Q19=0,"",Q19) | F19: =IFERROR( Total_Cost / ( SUMIF('Program Description'!$E$33:$E$42,'Summary Costs'!$D19,'Program Description'!$G$33:$G$42) * IF( SUMIF('Program Description'!$E$33:$E$42,'Summary Costs'!$D19,'Program Description'!$K$33:$K$42)=0, 1, SUMIF('Program Description'!$E$33:$E$42,'Summary Costs'!$D19,'Program Description'!$K$33:$K$42) ) ), "" ) | I19: =IFERROR( Total_Actual_Costs / ( SUMIF('Program Description'!$E$33:$E$42,'Summary Costs'!$D19,'Program Description'!$G$33:$G$42) * IF( SUMIF('Program Description'!$E$33:$E$42,'Summary Costs'!$D19,'Program Description'!$K$33:$K$42)=0, 1, SUMIF('Program Description'!$E$33:$E$42,'Summary Costs'!$D19,'Program Description'!$K$33:$K$42) ) ), "" ) | L19: =IFERROR( Total_Operational_Costs / ( SUMIF('Program Description'!$E$33:$E$42,'Summary Costs'!$D19,'Program Description'!$G$33:$G$42) * IF( SUMIF('Program Description'!$E$33:$E$42,'Summary Costs'!$D19,'Program Description'!$K$33:$K$42)=0, 1, SUMIF('Program Description'!$E$33:$E$42,'Summary Costs'!$D19,'Program Description'!$K$33:$K$42) ) ), "" ) | O19: =IFERROR( Total_OpsAndBenefits_Cost/ ( SUMIF('Program Description'!$E$33:$E$42,'Summary Costs'!$D19,'Program Description'!$G$33:$G$42) * IF( SUMIF('Program Description'!$E$33:$E$42,'Summary Costs'!$D19,'Program Description'!$K$33:$K$42)=0, 1, SUMIF('Program Description'!$E$33:$E$42,'Summary Costs'!$D19,'Program Description'!$K$33:$K$42) ) ), "" ) | Q19: 0
D20: =IF(Q20=0,"",Q20) | F20: =IFERROR( Total_Cost / ( SUMIF('Program Description'!$E$33:$E$42,'Summary Costs'!$D20,'Program Description'!$G$33:$G$42) * IF( SUMIF('Program Description'!$E$33:$E$42,'Summary Costs'!$D20,'Program Description'!$K$33:$K$42)=0, 1, SUMIF('Program Description'!$E$33:$E$42,'Summary Costs'!$D20,'Program Description'!$K$33:$K$42) ) ), "" ) | I20: =IFERROR( Total_Actual_Costs / ( SUMIF('Program Description'!$E$33:$E$42,'Summary Costs'!$D20,'Program Description'!$G$33:$G$42) * IF( SUMIF('Program Description'!$E$33:$E$42,'Summary Costs'!$D20,'Program Description'!$K$33:$K$42)=0, 1, SUMIF('Program Description'!$E$33:$E$42,'Summary Costs'!$D20,'Program Description'!$K$33:$K$42) ) ), "" ) | L20: =IFERROR( Total_Operational_Costs / ( SUMIF('Program Description'!$E$33:$E$42,'Summary Costs'!$D20,'Program Description'!$G$33:$G$42) * IF( SUMIF('Program Description'!$E$33:$E$42,'Summary Costs'!$D20,'Program Description'!$K$33:$K$42)=0, 1, SUMIF('Program Description'!$E$33:$E$42,'Summary Costs'!$D20,'Program Description'!$K$33:$K$42) ) ), "" ) | O20: =IFERROR( Total_OpsAndBenefits_Cost/ ( SUMIF('Program Description'!$E$33:$E$42,'Summary Costs'!$D20,'Program Description'!$G$33:$G$42) * IF( SUMIF('Program Description'!$E$33:$E$42,'Summary Costs'!$D20,'Program Description'!$K$33:$K$42)=0, 1, SUMIF('Program Description'!$E$33:$E$42,'Summary Costs'!$D20,'Program Description'!$K$33:$K$42) ) ), "" ) | Q20: 0
D21: =IF(Q21=0,"",Q21) | F21: =IFERROR( Total_Cost / ( SUMIF('Program Description'!$E$33:$E$42,'Summary Costs'!$D21,'Program Description'!$G$33:$G$42) * IF( SUMIF('Program Description'!$E$33:$E$42,'Summary Costs'!$D21,'Program Description'!$K$33:$K$42)=0, 1, SUMIF('Program Description'!$E$33:$E$42,'Summary Costs'!$D21,'Program Description'!$K$33:$K$42) ) ), "" ) | I21: =IFERROR( Total_Actual_Costs / ( SUMIF('Program Description'!$E$33:$E$42,'Summary Costs'!$D21,'Program Description'!$G$33:$G$42) * IF( SUMIF('Program Description'!$E$33:$E$42,'Summary Costs'!$D21,'Program Description'!$K$33:$K$42)=0, 1, SUMIF('Program Description'!$E$33:$E$42,'Summary Costs'!$D21,'Program Description'!$K$33:$K$42) ) ), "" ) | L21: =IFERROR( Total_Operational_Costs / ( SUMIF('Program Description'!$E$33:$E$42,'Summary Costs'!$D21,'Program Description'!$G$33:$G$42) * IF( SUMIF('Program Description'!$E$33:$E$42,'Summary Costs'!$D21,'Program Description'!$K$33:$K$42)=0, 1, SUMIF('Program Description'!$E$33:$E$42,'Summary Costs'!$D21,'Program Description'!$K$33:$K$42) ) ), "" ) | O21: =IFERROR( Total_OpsAndBenefits_Cost/ ( SUMIF('Program Description'!$E$33:$E$42,'Summary Costs'!$D21,'Program Description'!$G$33:$G$42) * IF( SUMIF('Program Description'!$E$33:$E$42,'Summary Costs'!$D21,'Program Description'!$K$33:$K$42)=0, 1, SUMIF('Program Description'!$E$33:$E$42,'Summary Costs'!$D21,'Program Description'!$K$33:$K$42) ) ), "" ) | Q21: 0
D22: =IF(Q22=0,"",Q22) | F22: =IFERROR( Total_Cost / ( SUMIF('Program Description'!$E$33:$E$42,'Summary Costs'!$D22,'Program Description'!$G$33:$G$42) * IF( SUMIF('Program Description'!$E$33:$E$42,'Summary Costs'!$D22,'Program Description'!$K$33:$K$42)=0, 1, SUMIF('Program Description'!$E$33:$E$42,'Summary Costs'!$D22,'Program Description'!$K$33:$K$42) ) ), "" ) | I22: =IFERROR( Total_Actual_Costs / ( SUMIF('Program Description'!$E$33:$E$42,'Summary Costs'!$D22,'Program Description'!$G$33:$G$42) * IF( SUMIF('Program Description'!$E$33:$E$42,'Summary Costs'!$D22,'Program Description'!$K$33:$K$42)=0, 1, SUMIF('Program Description'!$E$33:$E$42,'Summary Costs'!$D22,'Program Description'!$K$33:$K$42) ) ), "" ) | L22: =IFERROR( Total_Operational_Costs / ( SUMIF('Program Description'!$E$33:$E$42,'Summary Costs'!$D22,'Program Description'!$G$33:$G$42) * IF( SUMIF('Program Description'!$E$33:$E$42,'Summary Costs'!$D22,'Program Description'!$K$33:$K$42)=0, 1, SUMIF('Program Description'!$E$33:$E$42,'Summary Costs'!$D22,'Program Description'!$K$33:$K$42) ) ), "" ) | O22: =IFERROR( Total_OpsAndBenefits_Cost/ ( SUMIF('Program Description'!$E$33:$E$42,'Summary Costs'!$D22,'Program Description'!$G$33:$G$42) * IF( SUMIF('Program Description'!$E$33:$E$42,'Summary Costs'!$D22,'Program Description'!$K$33:$K$42)=0, 1, SUMIF('Program Description'!$E$33:$E$42,'Summary Costs'!$D22,'Program Description'!$K$33:$K$42) ) ), "" ) | Q22: 0
D23: =IF(Q23=0,"",Q23) | F23: =IFERROR( Total_Cost / ( SUMIF('Program Description'!$E$33:$E$42,'Summary Costs'!$D23,'Program Description'!$G$33:$G$42) * IF( SUMIF('Program Description'!$E$33:$E$42,'Summary Costs'!$D23,'Program Description'!$K$33:$K$42)=0, 1, SUMIF('Program Description'!$E$33:$E$42,'Summary Costs'!$D23,'Program Description'!$K$33:$K$42) ) ), "" ) | I23: =IFERROR( Total_Actual_Costs / ( SUMIF('Program Description'!$E$33:$E$42,'Summary Costs'!$D23,'Program Description'!$G$33:$G$42) * IF( SUMIF('Program Description'!$E$33:$E$42,'Summary Costs'!$D23,'Program Description'!$K$33:$K$42)=0, 1, SUMIF('Program Description'!$E$33:$E$42,'Summary Costs'!$D23,'Program Description'!$K$33:$K$42) ) ), "" ) | L23: =IFERROR( Total_Operational_Costs / ( SUMIF('Program Description'!$E$33:$E$42,'Summary Costs'!$D23,'Program Description'!$G$33:$G$42) * IF( SUMIF('Program Description'!$E$33:$E$42,'Summary Costs'!$D23,'Program Description'!$K$33:$K$42)=0, 1, SUMIF('Program Description'!$E$33:$E$42,'Summary Costs'!$D23,'Program Description'!$K$33:$K$42) ) ), "" ) | O23: =IFERROR( Total_OpsAndBenefits_Cost/ ( SUMIF('Program Description'!$E$33:$E$42,'Summary Costs'!$D23,'Program Description'!$G$33:$G$42) * IF( SUMIF('Program Description'!$E$33:$E$42,'Summary Costs'!$D23,'Program Description'!$K$33:$K$42)=0, 1, SUMIF('Program Description'!$E$33:$E$42,'Summary Costs'!$D23,'Program Description'!$K$33:$K$42) ) ), "" ) | Q23: 0
D24: =IF(Q24=0,"",Q24) | F24: =IFERROR( Total_Cost / ( SUMIF('Program Description'!$E$33:$E$42,'Summary Costs'!$D24,'Program Description'!$G$33:$G$42) * IF( SUMIF('Program Description'!$E$33:$E$42,'Summary Costs'!$D24,'Program Description'!$K$33:$K$42)=0, 1, SUMIF('Program Description'!$E$33:$E$42,'Summary Costs'!$D24,'Program Description'!$K$33:$K$42) ) ), "" ) | I24: =IFERROR( Total_Actual_Costs / ( SUMIF('Program Description'!$E$33:$E$42,'Summary Costs'!$D24,'Program Description'!$G$33:$G$42) * IF( SUMIF('Program Description'!$E$33:$E$42,'Summary Costs'!$D24,'Program Description'!$K$33:$K$42)=0, 1, SUMIF('Program Description'!$E$33:$E$42,'Summary Costs'!$D24,'Program Description'!$K$33:$K$42) ) ), "" ) | L24: =IFERROR( Total_Operational_Costs / ( SUMIF('Program Description'!$E$33:$E$42,'Summary Costs'!$D24,'Program Description'!$G$33:$G$42) * IF( SUMIF('Program Description'!$E$33:$E$42,'Summary Costs'!$D24,'Program Description'!$K$33:$K$42)=0, 1, SUMIF('Program Description'!$E$33:$E$42,'Summary Costs'!$D24,'Program Description'!$K$33:$K$42) ) ), "" ) | O24: =IFERROR( Total_OpsAndBenefits_Cost/ ( SUMIF('Program Description'!$E$33:$E$42,'Summary Costs'!$D24,'Program Description'!$G$33:$G$42) * IF( SUMIF('Program Description'!$E$33:$E$42,'Summary Costs'!$D24,'Program Description'!$K$33:$K$42)=0, 1, SUMIF('Program Description'!$E$33:$E$42,'Summary Costs'!$D24,'Program Description'!$K$33:$K$42) ) ), "" ) | Q24: 0
D25: =IF(Q25=0,"",Q25) | F25: =IFERROR( Total_Cost / ( SUMIF('Program Description'!$E$33:$E$42,'Summary Costs'!$D25,'Program Description'!$G$33:$G$42) * IF( SUMIF('Program Description'!$E$33:$E$42,'Summary Costs'!$D25,'Program Description'!$K$33:$K$42)=0, 1, SUMIF('Program Description'!$E$33:$E$42,'Summary Costs'!$D25,'Program Description'!$K$33:$K$42) ) ), "" ) | I25: =IFERROR( Total_Actual_Costs / ( SUMIF('Program Description'!$E$33:$E$42,'Summary Costs'!$D25,'Program Description'!$G$33:$G$42) * IF( SUMIF('Program Description'!$E$33:$E$42,'Summary Costs'!$D25,'Program Description'!$K$33:$K$42)=0, 1, SUMIF('Program Description'!$E$33:$E$42,'Summary Costs'!$D25,'Program Description'!$K$33:$K$42) ) ), "" ) | L25: =IFERROR( Total_Operational_Costs / ( SUMIF('Program Description'!$E$33:$E$42,'Summary Costs'!$D25,'Program Description'!$G$33:$G$42) * IF( SUMIF('Program Description'!$E$33:$E$42,'Summary Costs'!$D25,'Program Description'!$K$33:$K$42)=0, 1, SUMIF('Program Description'!$E$33:$E$42,'Summary Costs'!$D25,'Program Description'!$K$33:$K$42) ) ), "" ) | O25: =IFERROR( Total_OpsAndBenefits_Cost/ ( SUMIF('Program Description'!$E$33:$E$42,'Summary Costs'!$D25,'Program Description'!$G$33:$G$42) * IF( SUMIF('Program Description'!$E$33:$E$42,'Summary Costs'!$D25,'Program Description'!$K$33:$K$42)=0, 1, SUMIF('Program Description'!$E$33:$E$42,'Summary Costs'!$D25,'Program Description'!$K$33:$K$42) ) ), "" ) | Q25: 0
F26: =IFERROR( Total_Cost / ( SUMIF('Program Description'!$E$33:$E$42,'Summary Costs'!$D26,'Program Description'!$G$33:$G$42) * IF( SUMIF('Program Description'!$E$33:$E$42,'Summary Costs'!$D26,'Program Description'!$K$33:$K$42)=0, 1, SUMIF('Program Description'!$E$33:$E$42,'Summary Costs'!$D26,'Program Description'!$K$33:$K$42) ) ), "" ) | I26: =IFERROR( Total_Actual_Costs / ( SUMIF('Program Description'!$E$33:$E$42,'Summary Costs'!$D26,'Program Description'!$G$33:$G$42) * IF( SUMIF('Program Description'!$E$33:$E$42,'Summary Costs'!$D26,'Program Description'!$K$33:$K$42)=0, 1, SUMIF('Program Description'!$E$33:$E$42,'Summary Costs'!$D26,'Program Description'!$K$33:$K$42) ) ), "" ) | L26: =IFERROR( Total_Operational_Costs / ( SUMIF('Program Description'!$E$33:$E$42,'Summary Costs'!$D26,'Program Description'!$G$33:$G$42) * IF( SUMIF('Program Description'!$E$33:$E$42,'Summary Costs'!$D26,'Program Description'!$K$33:$K$42)=0, 1, SUMIF('Program Description'!$E$33:$E$42,'Summary Costs'!$D26,'Program Description'!$K$33:$K$42) ) ), "" ) | O26: =IFERROR( Total_OpsAndBenefits_Cost/ ( SUMIF('Program Description'!$E$33:$E$42,'Summary Costs'!$D26,'Program Description'!$G$33:$G$42) * IF( SUMIF('Program Description'!$E$33:$E$42,'Summary Costs'!$D26,'Program Description'!$K$33:$K$42)=0, 1, SUMIF('Program Description'!$E$33:$E$42,'Summary Costs'!$D26,'Program Description'!$K$33:$K$42) ) ), "" )
D31: Aggregate Impact: | F31: =IF(EffectSize_YesNo="Yes",AggregateImpact,"")
D32: Cost per Unit of Impact: | F32: =IF(ISNUMBER($F$31),Total_Cost/$F$31,"") | I32: =IF(ISNUMBER($F$31),Total_Actual_Costs/$F$31,"") | L32: =IF(ISNUMBER($F$31),Total_Operational_Costs/$F$31,"") | O32: =IF(ISNUMBER($F$31),Total_OpsAndBenefits_Cost/$F$31,"")
D36: Aggregate Impact: | F36: =IF(EffectSize_YesNo="Yes",AggregateImpact,"")
D37: Incremental Cost per Unit of Impact: | F37: =IF(Control_Cost_YesNo="Yes",IF(ISNUMBER($F$31),(Total_Cost-Control_Cost)/$F$31,""),"") | I37: =IF(Control_Cost_YesNo="Yes",IF(ISNUMBER($F$31),(Total_Actual_Costs-Control_Cost)/$F$31,""),"") | L37: =IF(Control_Cost_YesNo="Yes",IF(ISNUMBER($F$31),(Total_Operational_Costs-Control_Cost)/$F$31,""),"") | O37: =IF(Control_Cost_YesNo="Yes",IF(ISNUMBER($F$31),(Total_OpsAndBenefits_Cost-Control_Cost)/$F$31,""),"")
